BEGIN:VCALENDAR
VERSION:2.0
PRODID:-//eventon.com NONSGML v1.0//EN
CALSCALE:GREGORIAN
METHOD:PUBLISH
BEGIN:VEVENT
UID:69e8b367b54e3
DTSTAMP:20260422T113919Z
DTSTART:20260422T150000Z
DTEND:20260422T170000Z
LOCATION:
SUMMARY:KopnÄ™Å‚abym ciÄ™\,  gdybym mogÅ‚a | Sala Audrey | Kino Malta
DESCRIPTION:KopnÄ™Å‚abym ciÄ™\,  gdybym mogÅ‚a â€” kiedy Å¼ycie traci grunt
  pod nogami Kiedy studio A24 bierze na warsztat historiÄ™ o rozpadzie osobi
 stego Å›wiata\,  moÅ¼emy spodziewaÄ‡ siÄ™ kina bezkompromisowego\,  intymne
 go i czÄ™sto niejednoznacznego. KopnÄ™Å‚abym ciÄ™\,  gdybym mogÅ‚a to wÅ‚aÅ
 ›nie taki film: surowy\,  emocjonalnie napiÄ™ty portret kobiety\,  ktÃ³ra k
 aÅ¼dego dnia toczy nierÃ³wnÄ… walkÄ™[..]\nhttps://www.lepszypoznan.pl/kalen
 darium-kulturalnych-wydarzen/kopnelabym-cie-gdybym-mogla-sala-audrey-kino-m
 alta-17
URL:https://www.lepszypoznan.pl/kalendarium-kulturalnych-wydarzen/kopnelabym-cie-gdybym-mogla-sala-audrey-kino-malta-17
END:VEVENT
END:VCALENDAR