BEGIN:VCALENDAR
VERSION:2.0
PRODID:-//eventon.com NONSGML v1.0//EN
CALSCALE:GREGORIAN
METHOD:PUBLISH
BEGIN:VEVENT
UID:69e8b25b821ae
DTSTAMP:20260422T113451Z
DTSTART:20260422T133000Z
DTEND:20260422T153000Z
LOCATION:
SUMMARY:Dmuchawce | Sala Audrey | Kino Malta
DESCRIPTION:Dmuchawce w kosmosie — gdy najmniejsze stają się największ
 ymi bohaterami Gdyby ktoś jeszcze kilka lat temu zaproponował\,  by zrobi
 ć film o dmuchawcach — tych kruchych\,  białych parasolkach\,  które t
 ak łatwo rozwiewa wiatr — wielu potraktowałoby to jako pomysł zbyt del
 ikatny\,  by porwać widza. Tymczasem Dmuchawce — opowieść o rodzinie D
 endelion\, [..]\nhttps://www.lepszypoznan.pl/kalendarium-kulturalnych-wydar
 zen/dmuchawce-sala-audrey-kino-malta-11
URL:https://www.lepszypoznan.pl/kalendarium-kulturalnych-wydarzen/dmuchawce-sala-audrey-kino-malta-11
END:VEVENT
END:VCALENDAR