BEGIN:VCALENDAR
VERSION:2.0
PRODID:-//eventon.com NONSGML v1.0//EN
CALSCALE:GREGORIAN
METHOD:PUBLISH
BEGIN:VEVENT
UID:69e8b21c00caa
DTSTAMP:20260422T113348Z
DTSTART:20260422T123000Z
DTEND:20260422T143000Z
LOCATION:
SUMMARY:Pucio | Sala Audrey | Kino Malta
DESCRIPTION:Pucio – mały bohater wielkich przygód: rodzinny serial\,  k
 tóry uczy przez zabawę W morzu propozycji dla najmłodszych pojawia się 
 postać\,  która nie krzyczy\,  nie pędzi i nie stawia przed dzieckiem pr
 zesadnie skomplikowanych zadań. Pucio – sympatyczny maluch\,  znany z ks
 iążek i programów edukacyjnych – w swojej telewizyjnej odsłonie przyp
 omina\,  że[..]\nhttps://www.lepszypoznan.pl/kalendarium-kulturalnych-wyda
 rzen/pucio-sala-audrey-kino-malta-4
URL:https://www.lepszypoznan.pl/kalendarium-kulturalnych-wydarzen/pucio-sala-audrey-kino-malta-4
END:VEVENT
END:VCALENDAR