BEGIN:VCALENDAR
VERSION:2.0
PRODID:-//eventon.com NONSGML v1.0//EN
CALSCALE:GREGORIAN
METHOD:PUBLISH
BEGIN:VEVENT
UID:69e8b0ac9df30
DTSTAMP:20260422T112740Z
DTSTART:20260423T183000Z
DTEND:20260423T203000Z
LOCATION:
SUMMARY:Drama | Sala Marilyn | Kino Malta
DESCRIPTION:Piękni\,  zamożni i zakochani — film\,  który zaczyna się
  jak idealna pocztówka z upper class\,  a kończy jako studium tajemnicy\,
   tożsamości i granic wybaczenia Gdy tytuł mówi sam za siebie\,  łatwo
  spodziewać się konwencjonalnego romansu z błyszczącymi przyjęciami i 
 doskonałymi kreacjami. Nowa produkcja Piękni\,  zamożni i zakochani zabi
 era jednak widza[..]\nhttps://www.lepszypoznan.pl/kalendarium-kulturalnych-
 wydarzen/drama-sala-marilyn-kino-malta-4
URL:https://www.lepszypoznan.pl/kalendarium-kulturalnych-wydarzen/drama-sala-marilyn-kino-malta-4
END:VEVENT
END:VCALENDAR