BEGIN:VCALENDAR
VERSION:2.0
PRODID:-//eventon.com NONSGML v1.0//EN
CALSCALE:GREGORIAN
METHOD:PUBLISH
BEGIN:VEVENT
UID:69e8b26299593
DTSTAMP:20260422T113458Z
DTSTART:20260423T183000Z
DTEND:20260423T203000Z
LOCATION:
SUMMARY:Perfect Days | Cafe | Kino Malta
DESCRIPTION:Perfect Days — hymn dla drobnych gestów i miasta\,  które n
 igdy nie przestaje zachwycać W świecie kina\,  które często goni za sen
 sacją i dramatem\,  pojawia się film czuły\,  powściągliwy i głęboko
  humanistyczny. Perfect Days to obraz\,  który zamiast wielkich fabularnyc
 h zwrotów proponuje uważne obserwowanie codzienności. W centrum stoi Hir
 ayama —[..]\nhttps://www.lepszypoznan.pl/kalendarium-kulturalnych-wydarze
 n/perfect-days-cafe-kino-malta-11
URL:https://www.lepszypoznan.pl/kalendarium-kulturalnych-wydarzen/perfect-days-cafe-kino-malta-11
END:VEVENT
END:VCALENDAR