BEGIN:VCALENDAR
VERSION:2.0
PRODID:-//eventon.com NONSGML v1.0//EN
CALSCALE:GREGORIAN
METHOD:PUBLISH
BEGIN:VEVENT
UID:69e8b2a57c78a
DTSTAMP:20260422T113605Z
DTSTART:20260423T183000Z
DTEND:20260423T203000Z
LOCATION:
SUMMARY:Bez wyjścia | Sala Audrey | Kino Malta
DESCRIPTION:Uwaga: recenzja opisuje sceny przemocy i psychologicznego upadk
 u bohatera. Bez wyjścia — gdy sielanka kończy się w jeden dzień Na pi
 erwszy rzut oka Bez wyjścia jawi się jako studium upadku człowieka\,  kt
 óremu w jednej chwili zabrano wszystko\,  co do tej pory definiowało jego
  życie. Man-su prowadził pozornie idealne życie: stabilne[..]\nhttps://w
 ww.lepszypoznan.pl/kalendarium-kulturalnych-wydarzen/bez-wyjscia-sala-audre
 y-kino-malta-15
URL:https://www.lepszypoznan.pl/kalendarium-kulturalnych-wydarzen/bez-wyjscia-sala-audrey-kino-malta-15
END:VEVENT
END:VCALENDAR