BEGIN:VCALENDAR
VERSION:2.0
PRODID:-//eventon.com NONSGML v1.0//EN
CALSCALE:GREGORIAN
METHOD:PUBLISH
BEGIN:VEVENT
UID:69e8b26297e42
DTSTAMP:20260422T113458Z
DTSTART:20260423T183000Z
DTEND:20260423T203000Z
LOCATION:
SUMMARY:La Grazia | Sala Charlie | Kino Malta
DESCRIPTION:La Grazia — kiedy miłosierdzie staje się wyrokiem Paolo Sor
 rentino wraca z kolejną opowieścią o władzy\,  winie i ulotności miło
 sierdzia. La Grazia\,  film oparty na skondensowanej\,  a zarazem wielowars
 twowej idei\,  stawia przed nami postać prezydenta — człowieka publiczn
 ego u szczytu kariery i prywatnego u progu rozliczeń. W roli głównej bł
 yszczy[..]\nhttps://www.lepszypoznan.pl/kalendarium-kulturalnych-wydarzen/l
 a-grazia-sala-charlie-kino-malta-58
URL:https://www.lepszypoznan.pl/kalendarium-kulturalnych-wydarzen/la-grazia-sala-charlie-kino-malta-58
END:VEVENT
END:VCALENDAR