BEGIN:VCALENDAR
VERSION:2.0
PRODID:-//eventon.com NONSGML v1.0//EN
CALSCALE:GREGORIAN
METHOD:PUBLISH
BEGIN:VEVENT
UID:69e8b2c53f1c0
DTSTAMP:20260422T113637Z
DTSTART:20260423T170000Z
DTEND:20260423T190000Z
LOCATION:
SUMMARY:Nie ma duchÃ³w w mieszkaniu na Dobrej | Sala Audrey | Kino Malta
DESCRIPTION:TytuÅ‚ pozornie prosty â€” Nie ma duchÃ³w w mieszkaniu na Dobre
 j â€” igra z oczekiwaniami: obiecuje spokÃ³j\,  a dostarcza napiÄ™cia. Nowy
  film skupia siÄ™ na jednym mieszkaniu i czterech Å¼yciorysach\,  ktÃ³re zd
 erzajÄ… siÄ™ ze sobÄ… w rytmie codziennych kÅ‚Ã³tni\,  czuÅ‚oÅ›ci i frustra
 cji. To kameralna\,  wnikliwa opowieÅ›Ä‡ o dojrzewaniu\,  rozpadzie bliskoÅ
 ›ci[..]\nhttps://www.lepszypoznan.pl/kalendarium-kulturalnych-wydarzen/nie-
 ma-duchow-w-mieszkaniu-na-dobrej-sala-audrey-kino-malta-31
URL:https://www.lepszypoznan.pl/kalendarium-kulturalnych-wydarzen/nie-ma-duchow-w-mieszkaniu-na-dobrej-sala-audrey-kino-malta-31
END:VEVENT
END:VCALENDAR