BEGIN:VCALENDAR
VERSION:2.0
PRODID:-//eventon.com NONSGML v1.0//EN
CALSCALE:GREGORIAN
METHOD:PUBLISH
BEGIN:VEVENT
UID:69e8b2c548c55
DTSTAMP:20260422T113637Z
DTSTART:20260423T163000Z
DTEND:20260423T183000Z
LOCATION:
SUMMARY:Father Mother Sister Brother | Cafe | Kino Malta
DESCRIPTION:Father Mother Sister Brother — film Jima Jarmuscha\,  który 
 działa jak subtelny zegar emocji: trzy odmierzane rozdziały\,  trzy róż
 ne krajobrazy\,  ten sam motyw — dystans\,  który powstaje między ludź
 mi\,  nawet gdy pozornie dzielą ich tylko metry. Na pierwszy rzut oka to k
 ino prostoty: trzy historie\,  trzy lokalizacje — północno‑wschodnie 
 stany[..]\nhttps://www.lepszypoznan.pl/kalendarium-kulturalnych-wydarzen/fa
 ther-mother-sister-brother-cafe-kino-malta-16
URL:https://www.lepszypoznan.pl/kalendarium-kulturalnych-wydarzen/father-mother-sister-brother-cafe-kino-malta-16
END:VEVENT
END:VCALENDAR