BEGIN:VCALENDAR
VERSION:2.0
PRODID:-//eventon.com NONSGML v1.0//EN
CALSCALE:GREGORIAN
METHOD:PUBLISH
BEGIN:VEVENT
UID:69e8b26cf2f42
DTSTAMP:20260422T113508Z
DTSTART:20260423T161500Z
DTEND:20260423T181500Z
LOCATION:
SUMMARY:Wartość sentymentalna | Sala Marilyn | Kino Malta
DESCRIPTION:Wartość sentymentalna — gdy rodzinne rachunki rozlicza kame
 ra W nowym\,  poruszającym dramacie rodzinnym Wartość sentymentalna reż
 yserka Marta Sadowska (Scenariusz: Piotr Zalewski) sięga po temat\,  któr
 y od lat nie schodzi z ekranów — skomplikowane relacje między rodzicami
  a dorosłymi dziećmi — i rozgrywa go w wyjątkowo intymnej\,  kinowej f
 ormule. To film[..]\nhttps://www.lepszypoznan.pl/kalendarium-kulturalnych-w
 ydarzen/wartosc-sentymentalna-sala-marilyn-kino-malta-51
URL:https://www.lepszypoznan.pl/kalendarium-kulturalnych-wydarzen/wartosc-sentymentalna-sala-marilyn-kino-malta-51
END:VEVENT
END:VCALENDAR