BEGIN:VCALENDAR
VERSION:2.0
PRODID:-//eventon.com NONSGML v1.0//EN
CALSCALE:GREGORIAN
METHOD:PUBLISH
BEGIN:VEVENT
UID:69e7a16832b5c
DTSTAMP:20260421T161016Z
DTSTART:20260423T160000Z
DTEND:20260423T180000Z
LOCATION:
SUMMARY:Wpatrując się w słońce | Sala Charlie | Kino Malta
DESCRIPTION:Wpatrując się w słońce — rodowa kronika w obrazie i świe
 tle Na pierwszy rzut oka Wpatrując się w słońce jawi się jako film o c
 zterech dziewczynach dorastających na jednej północnoniemieckiej farmie.
  Ale to\,  co mogło być jedynie sekwencją epizodów z życia kolejnych p
 okoleń\,  reżyser i scenarzysta przeobrażają w wielowarstwową sagę[..
 ]\nhttps://www.lepszypoznan.pl/kalendarium-kulturalnych-wydarzen/wpatrujac-
 sie-w-slonce-sala-charlie-kino-malta-7
URL:https://www.lepszypoznan.pl/kalendarium-kulturalnych-wydarzen/wpatrujac-sie-w-slonce-sala-charlie-kino-malta-7
END:VEVENT
END:VCALENDAR