BEGIN:VCALENDAR
VERSION:2.0
PRODID:-//eventon.com NONSGML v1.0//EN
CALSCALE:GREGORIAN
METHOD:PUBLISH
BEGIN:VEVENT
UID:69e8b2df5f004
DTSTAMP:20260422T113703Z
DTSTART:20260423T151500Z
DTEND:20260423T171500Z
LOCATION:
SUMMARY:Kopnęłabym cię\,  gdybym mogła | Sala Audrey | Kino Malta
DESCRIPTION:Kopnęłabym cię\,  gdybym mogła — A24 serwuje bolesny port
 ret zwykłej kobiety na krawędzi Kiedy studio A24 zabiera nas w kolejną p
 odróż po zakamarkach współczesnej psychiki\,  można spodziewać się f
 ilmu\,  który nie boi się bólu\,  nieoczywistej empatii i estetyki balan
 sującej na granicy realizmu i surrealizmu. Kopnęłabym cię\,  gdybym mog
 ła to najbardziej[..]\nhttps://www.lepszypoznan.pl/kalendarium-kulturalnyc
 h-wydarzen/kopnelabym-cie-gdybym-mogla-sala-audrey-kino-malta-16
URL:https://www.lepszypoznan.pl/kalendarium-kulturalnych-wydarzen/kopnelabym-cie-gdybym-mogla-sala-audrey-kino-malta-16
END:VEVENT
END:VCALENDAR