BEGIN:VCALENDAR
VERSION:2.0
PRODID:-//eventon.com NONSGML v1.0//EN
CALSCALE:GREGORIAN
METHOD:PUBLISH
BEGIN:VEVENT
UID:69e8b26cd19ed
DTSTAMP:20260422T113508Z
DTSTART:20260423T143000Z
DTEND:20260423T163000Z
LOCATION:
SUMMARY:Left-Handed Girl. To była ręka... diabła! | Sala Marilyn | Kino Malta
DESCRIPTION:Left‑Handed Girl. To była ręka... diabła! Neonowy sen i mr
 oczne rękodzieło nocnego Tajpej Left‑Handed Girl zaczyna się tam\,  gd
 zie wiele współczesnych tajwańskich historii: na granicy światła i cie
 nia\,  między obietnicą wielkiego miasta a brudem codziennej walki o prze
 trwanie. Twórca / twórczyni filmu nie daje nam jednak prostego dramatu o 
 migracji[..]\nhttps://www.lepszypoznan.pl/kalendarium-kulturalnych-wydarzen
 /left-handed-girl-to-byla-reka-diabla-sala-marilyn-kino-malta-9
URL:https://www.lepszypoznan.pl/kalendarium-kulturalnych-wydarzen/left-handed-girl-to-byla-reka-diabla-sala-marilyn-kino-malta-9
END:VEVENT
END:VCALENDAR