BEGIN:VCALENDAR
VERSION:2.0
PRODID:-//eventon.com NONSGML v1.0//EN
CALSCALE:GREGORIAN
METHOD:PUBLISH
BEGIN:VEVENT
UID:69e7a56902254
DTSTAMP:20260421T162721Z
DTSTART:20260423T134500Z
DTEND:20260423T154500Z
LOCATION:
SUMMARY:Chronologia wody | Sala Charlie | Kino Malta
DESCRIPTION:Chronologia wody — film\,  który czyta ciało jak mapę Od p
 ierwszych kadrów Chronologii wody wiadomo\,  że mamy do czynienia z obraz
 em\,  który nie chce opowiadać tylko jednej historii — chce rozłożyć
  życie na elementy pierwsze i zbadać je pod mikroskopem. Centralnym punkt
 em filmu jest kobiece ciało: instrument przyjemności i bólu\, [..]\nhttp
 s://www.lepszypoznan.pl/kalendarium-kulturalnych-wydarzen/chronologia-wody-
 sala-charlie-kino-malta-6
URL:https://www.lepszypoznan.pl/kalendarium-kulturalnych-wydarzen/chronologia-wody-sala-charlie-kino-malta-6
END:VEVENT
END:VCALENDAR