BEGIN:VCALENDAR
VERSION:2.0
PRODID:-//eventon.com NONSGML v1.0//EN
CALSCALE:GREGORIAN
METHOD:PUBLISH
BEGIN:VEVENT
UID:69e8b3044430f
DTSTAMP:20260422T113740Z
DTSTART:20260423T133000Z
DTEND:20260423T153000Z
LOCATION:
SUMMARY:Być kochaną | Sala Audrey | Kino Malta
DESCRIPTION:„Być kochaną” to film\,  który zaczyna tam\,  gdzie zwyk
 łe love story się kończy — nie od pierwszego spotkania w świetle świ
 ec\,  lecz od codzienności\,  która wystawia wszystkie romantyczne obietn
 ice na ciężką próbę. To opowieść o Marii\,  kobiecie\,  która po ra
 z kolejny daje się uwierzyć w nowy początek. Wystarczy jedno spojrzenie\
 , [..]\nhttps://www.lepszypoznan.pl/kalendarium-kulturalnych-wydarzen/byc-k
 ochana-sala-audrey-kino-malta-23
URL:https://www.lepszypoznan.pl/kalendarium-kulturalnych-wydarzen/byc-kochana-sala-audrey-kino-malta-23
END:VEVENT
END:VCALENDAR