BEGIN:VCALENDAR
VERSION:2.0
PRODID:-//eventon.com NONSGML v1.0//EN
CALSCALE:GREGORIAN
METHOD:PUBLISH
BEGIN:VEVENT
UID:69e79e5ac81dd
DTSTAMP:20260421T155714Z
DTSTART:20260422T183000Z
DTEND:20260422T203000Z
LOCATION:
SUMMARY:Drama | Sala Marilyn | Kino Malta
DESCRIPTION:Piękni\,  bogaci i z tajemnicą. Gdy ślub staje się pytaniem
  Wszyscy znamy kadr: błyszczące kryształy\,  suknie szyte na miarę\,  t
 oast za „na zawsze”. W nowym dramacie Piękni\,  zamożni i zakochani 
 lub\,  który miał być punktem kulminacyjnym bajkowej historii\,  zamien
 ia się w wybuchową łamigłówkę moralną. Na kilka dni przed ceremonią
  wychodzi[..]\nhttps://www.lepszypoznan.pl/kalendarium-kulturalnych-wydarze
 n/drama-sala-marilyn-kino-malta-3
URL:https://www.lepszypoznan.pl/kalendarium-kulturalnych-wydarzen/drama-sala-marilyn-kino-malta-3
END:VEVENT
END:VCALENDAR