BEGIN:VCALENDAR
VERSION:2.0
PRODID:-//eventon.com NONSGML v1.0//EN
CALSCALE:GREGORIAN
METHOD:PUBLISH
BEGIN:VEVENT
UID:69e8b36127206
DTSTAMP:20260422T113913Z
DTSTART:20260422T183000Z
DTEND:20260422T203000Z
LOCATION:
SUMMARY:KwiecieÅ„ | Sala Audrey | Kino Malta
DESCRIPTION:KwiecieÅ„ â€” tytuÅ‚ filmu brzmi skromnie\,  a jednoczeÅ›nie pr
 zewrotnie: miesiÄ…c odradzania siÄ™ przyrody staje siÄ™ w tej opowieÅ›ci cz
 asem najwiÄ™kszego osamotnienia i najwiÄ™kszego napiÄ™cia. ReÅ¼yser(ka) siÄ
 ™ga po trudny\,  kontrowersyjny temat â€” medycznej odpowiedzialnoÅ›ci\,  a
 borcji i spoÅ‚ecznego wykluczenia â€” i robi to bez tanich uproszczeÅ„. Na 
 pierwszym planie stawia Niny\,  doÅ›wiadczonÄ…[..]\nhttps://www.lepszypozna
 n.pl/kalendarium-kulturalnych-wydarzen/kwiecien-sala-audrey-kino-malta
URL:https://www.lepszypoznan.pl/kalendarium-kulturalnych-wydarzen/kwiecien-sala-audrey-kino-malta
END:VEVENT
END:VCALENDAR