BEGIN:VCALENDAR
VERSION:2.0
PRODID:-//eventon.com NONSGML v1.0//EN
CALSCALE:GREGORIAN
METHOD:PUBLISH
BEGIN:VEVENT
UID:69e8b2a595207
DTSTAMP:20260422T113605Z
DTSTART:20260422T183000Z
DTEND:20260422T203000Z
LOCATION:
SUMMARY:WpatrujÄ…c siÄ™ w sÅ‚oÅ„ce | Sala Charlie | Kino Malta
DESCRIPTION:WpatrujÄ…c siÄ™ w sÅ‚oÅ„ce â€” opowieÅ›Ä‡ o pamiÄ™ci\,  miÅ‚oÅ›
 ci i tajemnicach jednej farmy Jest coÅ› hipnotyzujÄ…cego w obrazie pola oÅ›
 wietlonego niskim\,  zÅ‚otym sÅ‚oÅ„cem: szeroka perspektywa\,  powtarzalnoÅ
 ›Ä‡ pÃ³r roku i cisza\,  ktÃ³ra wie o wiele wiÄ™cej niÅ¼ ludzie. To wÅ‚aÅ›n
 ie na takiej farmie w pÃ³Å‚nocnych Niemczech rozgrywa siÄ™ melancholijna\, 
  wielowarstwowa saga[..]\nhttps://www.lepszypoznan.pl/kalendarium-kulturaln
 ych-wydarzen/wpatrujac-sie-w-slonce-sala-charlie-kino-malta-6
URL:https://www.lepszypoznan.pl/kalendarium-kulturalnych-wydarzen/wpatrujac-sie-w-slonce-sala-charlie-kino-malta-6
END:VEVENT
END:VCALENDAR