BEGIN:VCALENDAR
VERSION:2.0
PRODID:-//eventon.com NONSGML v1.0//EN
CALSCALE:GREGORIAN
METHOD:PUBLISH
BEGIN:VEVENT
UID:69e8b333cd57b
DTSTAMP:20260422T113827Z
DTSTART:20260422T170000Z
DTEND:20260422T190000Z
LOCATION:
SUMMARY:Dziecko z pyłu | Sala Audrey | Kino Malta
DESCRIPTION:Dziecko z pyłu — film\,  który nie daje zapomnieć Na pierw
 szy rzut oka Dziecko z pyłu to kameralna\,  emocjonalnie napięta opowieś
 ć o jednym człowieku i jednej decyzji. W istocie to film o pamięci wojny
 \,  o stygmatach\,  które przetrwały konflikt długo po wycofaniu żołni
 erzy\,  i o cenie\,  jaką płacą całe pokolenia\, [..]\nhttps://www.leps
 zypoznan.pl/kalendarium-kulturalnych-wydarzen/dziecko-z-pylu-sala-audrey-ki
 no-malta-5
URL:https://www.lepszypoznan.pl/kalendarium-kulturalnych-wydarzen/dziecko-z-pylu-sala-audrey-kino-malta-5
END:VEVENT
END:VCALENDAR