BEGIN:VCALENDAR
VERSION:2.0
PRODID:-//eventon.com NONSGML v1.0//EN
CALSCALE:GREGORIAN
METHOD:PUBLISH
BEGIN:VEVENT
UID:69e8b3338ff8d
DTSTAMP:20260422T113827Z
DTSTART:20260422T170000Z
DTEND:20260422T190000Z
LOCATION:
SUMMARY:Nie ma duchÃ³w w mieszkaniu na Dobrej | Sala Charlie | Kino Malta
DESCRIPTION:Nie ma duchÃ³w w mieszkaniu na Dobrej â€” tytuÅ‚\,  ktÃ³ry brzm
 i jak obietnica spokoju\,  szybko okazuje siÄ™ ironicznym komentarzem wobec
  Å›wiata przedstawionego w filmie. To kameralne\,  przenikliwe studium dora
 stania i rozpadu rodzinnych ukÅ‚adÃ³w\,  ktÃ³re Å‚Ä…czy realizm psychologic
 zny z subtelnÄ… metaforÄ… nadprzyrodzonÄ…. ReÅ¼yser(ka) decyduje siÄ™ na jÄ
 ™zyk ciszy i napiÄ™cia zamiast[..]\nhttps://www.lepszypoznan.pl/kalendarium
 -kulturalnych-wydarzen/nie-ma-duchow-w-mieszkaniu-na-dobrej-sala-charlie-ki
 no-malta-8
URL:https://www.lepszypoznan.pl/kalendarium-kulturalnych-wydarzen/nie-ma-duchow-w-mieszkaniu-na-dobrej-sala-charlie-kino-malta-8
END:VEVENT
END:VCALENDAR