BEGIN:VCALENDAR
VERSION:2.0
PRODID:-//eventon.com NONSGML v1.0//EN
CALSCALE:GREGORIAN
METHOD:PUBLISH
BEGIN:VEVENT
UID:69e8b1f6e3dfd
DTSTAMP:20260422T113310Z
DTSTART:20260422T165500Z
DTEND:20260422T185500Z
LOCATION:
SUMMARY:Pillion | Sala Marilyn | Kino Malta
DESCRIPTION:Pillion — kiedy tylne siedzenie staje się sceną przemiany J
 eden telefon\,  jedno „tak” i życie nieśmiałego Colina wywraca się 
 do góry nogami. Pillion — film\,  który na pierwszy rzut oka uchwyca pr
 ostą\,  niemal banalną sytuację\,  a następnie rozwija ją w intymną\,
   prowokującą opowieść o pożądaniu\,  tożsamości i utracie kontroli
 . Reżyser[..]\nhttps://www.lepszypoznan.pl/kalendarium-kulturalnych-wydarz
 en/pillion-sala-marilyn-kino-malta-13
URL:https://www.lepszypoznan.pl/kalendarium-kulturalnych-wydarzen/pillion-sala-marilyn-kino-malta-13
END:VEVENT
END:VCALENDAR