BEGIN:VCALENDAR
VERSION:2.0
PRODID:-//eventon.com NONSGML v1.0//EN
CALSCALE:GREGORIAN
METHOD:PUBLISH
BEGIN:VEVENT
UID:69e8b21c029c0
DTSTAMP:20260422T113348Z
DTSTART:20260422T151500Z
DTEND:20260422T171500Z
LOCATION:
SUMMARY:Kopnęłabym cię\,  gdybym mogła | Sala Audrey | Kino Malta
DESCRIPTION:Kopnęłabym cię\,  gdybym mogła — A24 serwuje intymny port
 ret kobiety na krawędzi A24 po raz kolejny daje nam film\,  który zamiast
  łatwych odpowiedzi serwuje napięcie budowane z drobnych\,  codziennych n
 apięć. Kopnęłabym cię\,  gdybym mogła to poruszający\,  momentami go
 rzko zabawny i zawsze trzymający w napięciu dramat o kobiecie\,  której 
 życie rozpada[..]\nhttps://www.lepszypoznan.pl/kalendarium-kulturalnych-wy
 darzen/kopnelabym-cie-gdybym-mogla-sala-audrey-kino-malta-15
URL:https://www.lepszypoznan.pl/kalendarium-kulturalnych-wydarzen/kopnelabym-cie-gdybym-mogla-sala-audrey-kino-malta-15
END:VEVENT
END:VCALENDAR