BEGIN:VCALENDAR
VERSION:2.0
PRODID:-//eventon.com NONSGML v1.0//EN
CALSCALE:GREGORIAN
METHOD:PUBLISH
BEGIN:VEVENT
UID:69e8b31390b21
DTSTAMP:20260422T113755Z
DTSTART:20260422T150000Z
DTEND:20260422T170000Z
LOCATION:
SUMMARY:Przepis na morderstwo | Sala Marilyn | Kino Malta
DESCRIPTION:Przepis na morderstwo — kiedy chciwość staje się receptą 
 na chaos Kiedy bogactwo urasta do rangi religii\,  a rodzina do głównego 
 pola bitwy\,  każdy krok może mieć śmiertelne konsekwencje. „Przepis 
 na morderstwo” to ciemno-błyskotliwa mieszanka czarnej komedii i krymina
 łu\,  która z uśmiechem na ustach i lodowatym chłodem w sercu prowadzi[
 ..]\nhttps://www.lepszypoznan.pl/kalendarium-kulturalnych-wydarzen/przepis-
 na-morderstwo-sala-marilyn-kino-malta-11
URL:https://www.lepszypoznan.pl/kalendarium-kulturalnych-wydarzen/przepis-na-morderstwo-sala-marilyn-kino-malta-11
END:VEVENT
END:VCALENDAR