BEGIN:VCALENDAR
VERSION:2.0
PRODID:-//eventon.com NONSGML v1.0//EN
CALSCALE:GREGORIAN
METHOD:PUBLISH
BEGIN:VEVENT
UID:69e8b2df497cc
DTSTAMP:20260422T113703Z
DTSTART:20260422T145000Z
DTEND:20260422T165000Z
LOCATION:
SUMMARY:Chronologia wody | Sala Charlie | Kino Malta
DESCRIPTION:Chronologia wody — film\,  który śledzi ciało jak kartotek
 ę pamięci Chronologia wody zaczyna się jak intymny eksperyment: nie od n
 azwisk\,  nie od dat\,  lecz od ciała. To ono jest tu osią świata — mi
 ęsień\,  skóra\,  miękka granica między wnętrzem a zewnętrzem — i 
 przez nie Lidia doświadcza wszystkich przemian\,  które[..]\nhttps://www.
 lepszypoznan.pl/kalendarium-kulturalnych-wydarzen/chronologia-wody-sala-cha
 rlie-kino-malta-5
URL:https://www.lepszypoznan.pl/kalendarium-kulturalnych-wydarzen/chronologia-wody-sala-charlie-kino-malta-5
END:VEVENT
END:VCALENDAR