BEGIN:VCALENDAR
VERSION:2.0
PRODID:-//eventon.com NONSGML v1.0//EN
CALSCALE:GREGORIAN
METHOD:PUBLISH
BEGIN:VEVENT
UID:69e8b2b35beb0
DTSTAMP:20260422T113619Z
DTSTART:20260422T135000Z
DTEND:20260422T155000Z
LOCATION:
SUMMARY:Dmuchawce | Sala Audrey | Kino Malta
DESCRIPTION:Dmuchawce: międzygwiezdna odysea malutkich bohaterów W czasac
 h\,  gdy kino animowane potrafi mówić do widza wieloma głosami — od wy
 buchowego humoru po najczulsze liryczne nuty — pojawia się film\,  któr
 y przypomina o czymś\,  co często gubimy w pędzie: o wielkiej wartości 
 rzeczy naprawdę małych. Dmuchawce — opowieść o Dendelionie\,  Baraban
 ie\,  Léoncie[..]\nhttps://www.lepszypoznan.pl/kalendarium-kulturalnych-wy
 darzen/dmuchawce-sala-audrey-kino-malta-10
URL:https://www.lepszypoznan.pl/kalendarium-kulturalnych-wydarzen/dmuchawce-sala-audrey-kino-malta-10
END:VEVENT
END:VCALENDAR