BEGIN:VCALENDAR
VERSION:2.0
PRODID:-//eventon.com NONSGML v1.0//EN
CALSCALE:GREGORIAN
METHOD:PUBLISH
BEGIN:VEVENT
UID:69e8b05b94146
DTSTAMP:20260422T112619Z
DTSTART:20260422T133000Z
DTEND:20260422T153000Z
LOCATION:
SUMMARY:Arco | Sala Marilyn | Kino Malta
DESCRIPTION:Arco â€” opowieÅ›Ä‡ o przyjaÅºni\,  ktÃ³ra patrzy w przyszÅ‚oÅ›
 Ä‡ z ciekawoÅ›ciÄ… i nadziejÄ… Arco\,  produkcja nadzorowana przez NataliÄ™
  Portman we wspÃ³Å‚pracy z FÃ©lixem de Givry i Sophie Mas\,  to film\,  ktÃ
 ³ry stawia dzieciÄ™cÄ… perspektywÄ™ w samym centrum opowieÅ›ci o tym\,  jak
  wyglÄ…daÄ‡ moÅ¼e nasz Å›wiat za kilkadziesiÄ…t lat. Z pozoru[..]\nhttps://
 www.lepszypoznan.pl/kalendarium-kulturalnych-wydarzen/arco-sala-marilyn-kin
 o-malta-6
URL:https://www.lepszypoznan.pl/kalendarium-kulturalnych-wydarzen/arco-sala-marilyn-kino-malta-6
END:VEVENT
END:VCALENDAR