BEGIN:VCALENDAR
VERSION:2.0
PRODID:-//eventon.com NONSGML v1.0//EN
CALSCALE:GREGORIAN
METHOD:PUBLISH
BEGIN:VEVENT
UID:69e8b32db660e
DTSTAMP:20260422T113821Z
DTSTART:20260422T133000Z
DTEND:20260422T153000Z
LOCATION:
SUMMARY:Maryja. Matka Papieża | Sala Charlie | Kino Malta
DESCRIPTION:Maryja jako przewodniczka — „Maryja. Matka Papieża” wcho
 dzi w kinowy obieg z odwagą ciszy i siłą obrazu. Ten pierwszy pełnometr
 ażowy dokument\,  który wprost stawia w centrum relację św. Jana Pawła
  II z Matką Bożą\,  nie ogranicza się do hagiografii jednego z najważn
 iejszych papieży XX wieku. Twórcy sięgają po bogactwo ikonografii\, [..
 ]\nhttps://www.lepszypoznan.pl/kalendarium-kulturalnych-wydarzen/maryja-mat
 ka-papieza-sala-charlie-kino-malta-3
URL:https://www.lepszypoznan.pl/kalendarium-kulturalnych-wydarzen/maryja-matka-papieza-sala-charlie-kino-malta-3
END:VEVENT
END:VCALENDAR