BEGIN:VCALENDAR
VERSION:2.0
PRODID:-//eventon.com NONSGML v1.0//EN
CALSCALE:GREGORIAN
METHOD:PUBLISH
BEGIN:VEVENT
UID:69e8b05b942e5
DTSTAMP:20260422T112619Z
DTSTART:20260422T125000Z
DTEND:20260422T145000Z
LOCATION:
SUMMARY:Pucio | Sala Audrey | Kino Malta
DESCRIPTION:Pucio odkrywa Å›wiat â€” rodzinne cudo\,  ktÃ³re uczy przez zab
 awÄ™ Na pierwszy rzut oka Pucio wyglÄ…da jak kolejny sympatyczny bohater dz
 ieciÄ™cy: maÅ‚y\,  ciekawski\,  zawsze uÅ›miechniÄ™ty. Ale ten pozornie pro
 sty serial animowany dla najmÅ‚odszych potrafi wiÄ™cej niÅ¼ tylko bawiÄ‡ â€
 ” delikatnie wprowadza maluchy w codzienne rytuaÅ‚y\,  uczy empatii i kreat
 ywnego myÅ›lenia\, [..]\nhttps://www.lepszypoznan.pl/kalendarium-kulturalny
 ch-wydarzen/pucio-sala-audrey-kino-malta-3
URL:https://www.lepszypoznan.pl/kalendarium-kulturalnych-wydarzen/pucio-sala-audrey-kino-malta-3
END:VEVENT
END:VCALENDAR