BEGIN:VCALENDAR
VERSION:2.0
PRODID:-//eventon.com NONSGML v1.0//EN
CALSCALE:GREGORIAN
METHOD:PUBLISH
BEGIN:VEVENT
UID:69e8b32db65c5
DTSTAMP:20260422T113821Z
DTSTART:20260422T121500Z
DTEND:20260422T141500Z
LOCATION:
SUMMARY:Łobuz | Sala Charlie | Kino Malta
DESCRIPTION:Łobuz — malowniczy portret jednego życia w wielkim mieście
  Łobuz to film\,  który nie oszczędza widza ani bohatera. Tytułowy Mike
  — młody mężczyzna ze wschodniego Londynu — to postać z tych\,  kt
 re zapadają w pamięć: skóra zmęczona codziennością\,  kieszenie pe
 ne drobiazgów\,  w oczach czujność człowieka\,  który nauczył się p
 olegać głównie[..]\nhttps://www.lepszypoznan.pl/kalendarium-kulturalnych
 -wydarzen/lobuz-sala-charlie-kino-malta-9
URL:https://www.lepszypoznan.pl/kalendarium-kulturalnych-wydarzen/lobuz-sala-charlie-kino-malta-9
END:VEVENT
END:VCALENDAR