BEGIN:VCALENDAR
VERSION:2.0
PRODID:-//eventon.com NONSGML v1.0//EN
CALSCALE:GREGORIAN
METHOD:PUBLISH
BEGIN:VEVENT
UID:69e8b2b25b7a2
DTSTAMP:20260422T113618Z
DTSTART:20260422T120000Z
DTEND:20260422T140000Z
LOCATION:
SUMMARY:Głos Hind Rajab | Sala Marilyn | Kino Malta
DESCRIPTION:Głos Hind Rajab — film\,  który dociera do serca dramatów 
 codzienności Na pierwszy rzut oka Głos Hind Rajab to film o jednym zdarze
 niu: 29 stycznia 2024 roku wolontariusze Palestyńskiego Czerwonego Półks
 iężyca odbierają telefon alarmowy. W samochodzie\,  pod ostrzałem\,  uw
 ięziona jest sześcioletnia dziewczynka\,  która błaga o pomoc. Ratownic
 y\,  starając się utrzymać[..]\nhttps://www.lepszypoznan.pl/kalendarium-
 kulturalnych-wydarzen/glos-hind-rajab-sala-marilyn-kino-malta-3
URL:https://www.lepszypoznan.pl/kalendarium-kulturalnych-wydarzen/glos-hind-rajab-sala-marilyn-kino-malta-3
END:VEVENT
END:VCALENDAR