BEGIN:VCALENDAR
VERSION:2.0
PRODID:-//eventon.com NONSGML v1.0//EN
CALSCALE:GREGORIAN
METHOD:PUBLISH
BEGIN:VEVENT
UID:69e7a4cd86518
DTSTAMP:20260421T162445Z
DTSTART:20260421T161500Z
DTEND:20260421T181500Z
LOCATION:
SUMMARY:Ostatnia sesja w Paryżu | Sala Charlie | Kino Malta
DESCRIPTION:Ostatnia sesja w Paryżu — gdy cisza gabinetu staje się pole
 m śledztwa Paris noir? Raczej paryski thriller introspektywny. Ostatnia se
 sja w Paryżu to film\,  który zaczyna się cicho — w kameralnym gabinec
 ie psychiatrycznym\,  między półkami z książkami a ciepłym światłem
  lampy — i kończy głośnym pytaniem o granice odpowiedzialności\,  win
 y[..]\nhttps://www.lepszypoznan.pl/kalendarium-kulturalnych-wydarzen/ostatn
 ia-sesja-w-paryzu-sala-charlie-kino-malta-23
URL:https://www.lepszypoznan.pl/kalendarium-kulturalnych-wydarzen/ostatnia-sesja-w-paryzu-sala-charlie-kino-malta-23
END:VEVENT
END:VCALENDAR