BEGIN:VCALENDAR
VERSION:2.0
PRODID:-//eventon.com NONSGML v1.0//EN
CALSCALE:GREGORIAN
METHOD:PUBLISH
BEGIN:VEVENT
UID:69e7a68f48c5a
DTSTAMP:20260421T163215Z
DTSTART:20260419T181500Z
DTEND:20260419T201500Z
LOCATION:
SUMMARY:Wpatrując się w słońce | Sala Charlie | Kino Malta
DESCRIPTION:Wpatrując się w słońce — opowieść o pamięci\,  miłoś
 ci i tajemnicach jednej farmy Na pierwszy rzut oka Wpatrując się w słoń
 ce wydaje się prostą\,  wręcz klasyczną sagą obyczajową: jedna farma\
 ,  cztery pokolenia\,  cztery kobiety. Ale jeśli poddać się jej rytmowi\
 ,  film odsłania dużo więcej niż tylko kolejne epizody z życia[..]\nht
 tps://www.lepszypoznan.pl/kalendarium-kulturalnych-wydarzen/wpatrujac-sie-w
 -slonce-sala-charlie-kino-malta-3
URL:https://www.lepszypoznan.pl/kalendarium-kulturalnych-wydarzen/wpatrujac-sie-w-slonce-sala-charlie-kino-malta-3
END:VEVENT
END:VCALENDAR