BEGIN:VCALENDAR
VERSION:2.0
PRODID:-//eventon.com NONSGML v1.0//EN
CALSCALE:GREGORIAN
METHOD:PUBLISH
BEGIN:VEVENT
UID:69e7a74ed3ccf
DTSTAMP:20260421T163526Z
DTSTART:20260419T163000Z
DTEND:20260419T183000Z
LOCATION:
SUMMARY:Drama | Sala Charlie | Kino Malta
DESCRIPTION:Piękni\,  zamożni i zakochani — gdy miłość staje przed l
 ustrem przeszłości W filmie\,  którego tytuł brzmi jak zaproszenie na o
 kładkę luksusowego magazynu\,  wszystko wygląda doskonale: wystawna will
 a\,  białe peonie\,  goście w smokingach i sukniach haute couture. Para g
 łównych bohaterów — atrakcyjna\,  majętna i pozornie szczęśliwa —
  przygotowuje się do ślubu\, [..]\nhttps://www.lepszypoznan.pl/kalendariu
 m-kulturalnych-wydarzen/drama-sala-charlie-kino-malta-9
URL:https://www.lepszypoznan.pl/kalendarium-kulturalnych-wydarzen/drama-sala-charlie-kino-malta-9
END:VEVENT
END:VCALENDAR