BEGIN:VCALENDAR
VERSION:2.0
PRODID:-//eventon.com NONSGML v1.0//EN
CALSCALE:GREGORIAN
METHOD:PUBLISH
BEGIN:VEVENT
UID:69ea3a7a4fec8
DTSTAMP:20260423T152754Z
DTSTART:20260419T150500Z
DTEND:20260419T170500Z
LOCATION:
SUMMARY:Ostatnia sesja w Paryżu | Sala Audrey | Kino Malta
DESCRIPTION:Ostatnia sesja w Paryżu — cisza po diagnozie W kinie\,  któ
 re coraz chętniej eksploruje cienką granicę między etyką zawodową a o
 sobistą katastrofą\,  pojawia się film\,  który zmusza do zatrzymania o
 ddechu: Ostatnia sesja w Paryżu. To psychologiczny kryminał\,  w którym 
 rozum i emocje toczą nierówną walkę\,  a sama metropolia — jej[..]\nh
 ttps://www.lepszypoznan.pl/kalendarium-kulturalnych-wydarzen/ostatnia-sesja
 -w-paryzu-sala-audrey-kino-malta-6
URL:https://www.lepszypoznan.pl/kalendarium-kulturalnych-wydarzen/ostatnia-sesja-w-paryzu-sala-audrey-kino-malta-6
END:VEVENT
END:VCALENDAR