BEGIN:VCALENDAR
VERSION:2.0
PRODID:-//eventon.com NONSGML v1.0//EN
CALSCALE:GREGORIAN
METHOD:PUBLISH
BEGIN:VEVENT
UID:69ea3d4bc438c
DTSTAMP:20260423T153955Z
DTSTART:20260419T123000Z
DTEND:20260419T143000Z
LOCATION:
SUMMARY:Kwiecień | Sala Marilyn | Kino Malta
DESCRIPTION:Kwiecień zderza publiczny skandal z intymnością decyzji. Now
 y film (bez wskazania reżysera w materiałach promocyjnych) stawia w centr
 um postać Niny — doświadczonej ginekolożki\,  oskarżonej o spowodowan
 ie śmierci noworodka. To historia\,  która mogła stać się jedynie sąd
 owym thrillerem\,  ale twórcy wybierają inną drogę: powolnego\,  empaty
 cznego portretu kobiety\,  która w świecie zbudowanym[..]\nhttps://www.le
 pszypoznan.pl/kalendarium-kulturalnych-wydarzen/kwiecien-sala-marilyn-kino-
 malta-2
URL:https://www.lepszypoznan.pl/kalendarium-kulturalnych-wydarzen/kwiecien-sala-marilyn-kino-malta-2
END:VEVENT
END:VCALENDAR