BEGIN:VCALENDAR
VERSION:2.0
PRODID:-//eventon.com NONSGML v1.0//EN
CALSCALE:GREGORIAN
METHOD:PUBLISH
BEGIN:VEVENT
UID:69e8f98f876bc
DTSTAMP:20260422T163839Z
DTSTART:20260418T112000Z
DTEND:20260418T132000Z
LOCATION:
SUMMARY:Pucio | Sala Audrey | Kino Malta
DESCRIPTION:Pucio odkrywa świat: mały bohater\,  wielkie przygody Wśród
  zalewu programów dla najmłodszych pojawia się serial\,  który z wdzię
 kiem przypomina\,  jak wielkie znaczenie mają drobne\,  codzienne momenty.
  Pucio — rezolutny maluch znany już z książek i zabaw — razem ze swo
 ją rodziną wyrusza na serię krótkich\,  pełnych ciepła przygód. Każ
 dy odcinek[..]\nhttps://www.lepszypoznan.pl/kalendarium-kulturalnych-wydarz
 en/pucio-sala-audrey-kino-malta
URL:https://www.lepszypoznan.pl/kalendarium-kulturalnych-wydarzen/pucio-sala-audrey-kino-malta
END:VEVENT
END:VCALENDAR