BEGIN:VCALENDAR
VERSION:2.0
PRODID:-//eventon.com NONSGML v1.0//EN
CALSCALE:GREGORIAN
METHOD:PUBLISH
BEGIN:VEVENT
UID:69ea3d03cc214
DTSTAMP:20260423T153843Z
DTSTART:20260417T164500Z
DTEND:20260417T184500Z
LOCATION:
SUMMARY:Ostatnia sesja w Paryżu | Sala Charlie | Kino Malta
DESCRIPTION:Ostatnia sesja w Paryżu — kryminał intymny\,  w którym cis
 za mówi więcej niż zeznania Na tle mokrych bruków\,  gasnących neonów
  i marmurowych wnętrz paryskich klinik rozgrywa się opowieść\,  która 
 zamiast krwawych zwrotów akcji wybiera długie\,  klaustrofobiczne ujęcia
  umysłu. Ostatnia sesja w Paryżu to film o winie\,  pamięci i cienkiej g
 ranicy[..]\nhttps://www.lepszypoznan.pl/kalendarium-kulturalnych-wydarzen/o
 statnia-sesja-w-paryzu-sala-charlie-kino-malta-22
URL:https://www.lepszypoznan.pl/kalendarium-kulturalnych-wydarzen/ostatnia-sesja-w-paryzu-sala-charlie-kino-malta-22
END:VEVENT
END:VCALENDAR