BEGIN:VCALENDAR
VERSION:2.0
PRODID:-//eventon.com NONSGML v1.0//EN
CALSCALE:GREGORIAN
METHOD:PUBLISH
BEGIN:VEVENT
UID:69e8b367b5e7d
DTSTAMP:20260422T113919Z
DTSTART:20260630T133000Z
DTEND:20260630T153000Z
LOCATION:
SUMMARY:Człowiek z marmuru | Sala Audrey | Kino Malta
DESCRIPTION:Człowiek z marmuru — pamięć\,  propaganda i demontaż mitu
  Człowiek z marmuru to film\,  który – choć opowiedziany przez pryzmat
  jednej osobistej historii – otwiera przed widzem znacznie szersze pole p
 ytań o mechanizmy władzy\,  pamięć zbiorową i rolę sztuki w odkrywani
 u zakłamanej prawdy. Centralną osią opowieści jest młoda\,  zadziorna 
 reżyserka[..]\nhttps://www.lepszypoznan.pl/kalendarium-kulturalnych-wydarz
 en/czlowiek-z-marmuru-sala-audrey-kino-malta
URL:https://www.lepszypoznan.pl/kalendarium-kulturalnych-wydarzen/czlowiek-z-marmuru-sala-audrey-kino-malta
END:VEVENT
END:VCALENDAR