BEGIN:VCALENDAR
VERSION:2.0
PRODID:-//eventon.com NONSGML v1.0//EN
CALSCALE:GREGORIAN
METHOD:PUBLISH
BEGIN:VEVENT
UID:69e8b3139093a
DTSTAMP:20260422T113755Z
DTSTART:20260607T183000Z
DTEND:20260607T203000Z
LOCATION:
SUMMARY:Podziemny krÄ…g | Sala Audrey | Kino Malta
DESCRIPTION:Uwaga: niÅ¼ej pojawiajÄ… siÄ™ fragmenty fabularne filmu â€” jeÅ
 ›li wolisz zachowaÄ‡ niespodziankÄ™\,  zatrzymaj siÄ™ tutaj. Podziemny krÄ…
 g â€” ponadczasowy gniew pod perfekcyjnÄ… skÃ³rÄ… Gdy w 1999 roku na ekrany
  wszedÅ‚ Podziemny krÄ…g (Fight Club)\,  film Davida Finchera natychmiast r
 ozbiÅ‚ gÅ‚adkie tafle kina mainstreamowego. Na pozÃ³r to dynamiczny\,  krwa
 wy thriller o[..]\nhttps://www.lepszypoznan.pl/kalendarium-kulturalnych-wyd
 arzen/podziemny-krag-sala-audrey-kino-malta-2
URL:https://www.lepszypoznan.pl/kalendarium-kulturalnych-wydarzen/podziemny-krag-sala-audrey-kino-malta-2
END:VEVENT
END:VCALENDAR