BEGIN:VCALENDAR
VERSION:2.0
PRODID:-//eventon.com NONSGML v1.0//EN
CALSCALE:GREGORIAN
METHOD:PUBLISH
BEGIN:VEVENT
UID:69e8b25b8e236
DTSTAMP:20260422T113451Z
DTSTART:20260606T183000Z
DTEND:20260606T203000Z
LOCATION:
SUMMARY:Podziemny krąg | Cafe | Kino Malta
DESCRIPTION:Uwaga: tekst zawiera spojlery dotyczące fabuły filmu. Podziem
 ny krąg — gdy nuda życia staje się buntem Kiedy współczesne kino prz
 eprowadza operację na tożsamości mężczyzny uwięzionego między korpor
 acyjnym trybem a desperacką potrzebą sensu\,  otrzymujemy opowieść\,  k
 tóra rzadko pozostawia widza obojętnym. „Podziemny krąg” to film\,  
 który wygląda jak chłodny\,  metalowy portret końca[..]\nhttps://www.le
 pszypoznan.pl/kalendarium-kulturalnych-wydarzen/podziemny-krag-cafe-kino-ma
 lta
URL:https://www.lepszypoznan.pl/kalendarium-kulturalnych-wydarzen/podziemny-krag-cafe-kino-malta
END:VEVENT
END:VCALENDAR