BEGIN:VCALENDAR
VERSION:2.0
PRODID:-//eventon.com NONSGML v1.0//EN
CALSCALE:GREGORIAN
METHOD:PUBLISH
BEGIN:VEVENT
UID:69e8b304440d7
DTSTAMP:20260422T113740Z
DTSTART:20260605T183000Z
DTEND:20260605T203000Z
LOCATION:
SUMMARY:Podziemny krąg | Sala Audrey | Kino Malta
DESCRIPTION:Uwaga: tekst zawiera spoilery dotyczące fabuły filmu. Podziem
 ny krąg — opowieść o rozpadającym się jaźnie\,  anarchii i kłopotl
 iwej fascynacji samozniszczeniem — od lat prowokuje\,  szokuje i inspiruj
 e. Adaptacja powieści Chucka Palahniuka w reżyserii Davida Finchera (1999
 ) to nie tylko kino akcji czy kronika brutalnych bijatyk w piwnicach. To fi
 lmowa diagnoza[..]\nhttps://www.lepszypoznan.pl/kalendarium-kulturalnych-wy
 darzen/podziemny-krag-sala-audrey-kino-malta
URL:https://www.lepszypoznan.pl/kalendarium-kulturalnych-wydarzen/podziemny-krag-sala-audrey-kino-malta
END:VEVENT
END:VCALENDAR