BEGIN:VCALENDAR
VERSION:2.0
PRODID:-//eventon.com NONSGML v1.0//EN
CALSCALE:GREGORIAN
METHOD:PUBLISH
BEGIN:VEVENT
UID:69e8b36120981
DTSTAMP:20260422T113913Z
DTSTART:20260528T160000Z
DTEND:20260528T180000Z
LOCATION:
SUMMARY:Niewinni czarodzieje | Sala Audrey | Kino Malta
DESCRIPTION:Niewinni czarodzieje — gra pozorów w nocnej Warszawie W niew
 ielu filmach noc tak dosłownie staje się polem rozgrywki dla młodości\,
   jak w Niewinnych czarodziejach. To subtelna\,  ale przenikliwa opowieść
  o dwojgu ludzi\,  którzy przez jedną noc próbują oszukać samych siebi
 e i rzeczywistość\,  w której przyszło im żyć. Reżyser unika patosu[
 ..]\nhttps://www.lepszypoznan.pl/kalendarium-kulturalnych-wydarzen/niewinni
 -czarodzieje-sala-audrey-kino-malta
URL:https://www.lepszypoznan.pl/kalendarium-kulturalnych-wydarzen/niewinni-czarodzieje-sala-audrey-kino-malta
END:VEVENT
END:VCALENDAR