BEGIN:VCALENDAR
VERSION:2.0
PRODID:-//eventon.com NONSGML v1.0//EN
CALSCALE:GREGORIAN
METHOD:PUBLISH
BEGIN:VEVENT
UID:69e8b0367bf9d
DTSTAMP:20260422T112542Z
DTSTART:20260428T160000Z
DTEND:20260428T180000Z
LOCATION:
SUMMARY:Wesele | Sala Audrey | Kino Malta
DESCRIPTION:Wesele — obraz\,  który nie pozwala o sobie zapomnieć Gdy s
 ala osiada po ostatnich oklaskach\,  a w powietrzu wciąż unosi się zapac
 h spalonego gęsiego i zmiętych bibułek\,  widz pozostaje z jednym uporcz
 ywym pytaniem: jak to możliwe\,  że tak oczywista szansa na zmianę społ
 eczna rozmywa się w stojącym alkoholu i prymitywnych[..]\nhttps://www.lep
 szypoznan.pl/kalendarium-kulturalnych-wydarzen/wesele-sala-audrey-kino-malt
 a
URL:https://www.lepszypoznan.pl/kalendarium-kulturalnych-wydarzen/wesele-sala-audrey-kino-malta
END:VEVENT
END:VCALENDAR