BEGIN:VCALENDAR
VERSION:2.0
PRODID:-//eventon.com NONSGML v1.0//EN
CALSCALE:GREGORIAN
METHOD:PUBLISH
BEGIN:VEVENT
UID:69e79e9384c93
DTSTAMP:20260421T155811Z
DTSTART:20251019T090000Z
DTEND:20251019T110000Z
LOCATION:
SUMMARY:PoÅ¼egnanie z PalmiarniÄ… - XXXIII
DESCRIPTION:PoznaÅ„ska Palmiarnia w blasku reflektorÃ³w: ostatnie poÅ¼egnan
 ie przed remontem w rytmie muzyki miasta Wielcy miÅ‚oÅ›nicy miejskich wÄ™dr
 Ã³wek\,  pasjonaci historii oraz wszyscy\,  ktÃ³rzy ceniÄ… sobie wyjÄ…tkowÄ
 … atmosferÄ™ miejsc zwiÄ…zanych z kulturÄ… i naturÄ… â€“ juÅ¼ niedÅ‚ugo cze
 ka nas jedno z najwaÅ¼niejszych wydarzeÅ„ roku w Poznaniu. KoÅ‚o Przewodnik
 Ã³w PTTK im. Marcelego Mottego[..]\nhttps://www.lepszypoznan.pl/kalendarium
 -kulturalnych-wydarzen/pozegnanie-z-palmiarnia-xxxiii
URL:https://www.lepszypoznan.pl/kalendarium-kulturalnych-wydarzen/pozegnanie-z-palmiarnia-xxxiii
END:VEVENT
END:VCALENDAR