BEGIN:VCALENDAR
VERSION:2.0
PRODID:-//eventon.com NONSGML v1.0//EN
CALSCALE:GREGORIAN
METHOD:PUBLISH
BEGIN:VEVENT
UID:69ebafaad549e
DTSTAMP:20260424T180010Z
DTSTART:20250513T083000Z
DTEND:20250513T103000Z
LOCATION:
SUMMARY:Akademia Dokumentalna MDAG w Kinie Muza | Poznań
DESCRIPTION:Festiwal Millennium Docs Against Gravity – Odkrywanie Rzeczyw
 istości w Kinematografii Już od lat Festiwal Millennium Docs Against Grav
 ity jest jednym z najważniejszych wydarzeń filmowych w Polsce\,  propaguj
 ącym filmy dokumentalne\,  które rzucają światło na kluczowe problemy 
 współczesnego świata. W 2025 roku festiwal zagości ponownie w Poznaniu\
 ,  a jego 22. edycja odbędzie[..]\nhttps://www.lepszypoznan.pl/kalendarium
 -kulturalnych-wydarzen/akademia-dokumentalna-mdag-w-kinie-muza-poznan-2
URL:https://www.lepszypoznan.pl/kalendarium-kulturalnych-wydarzen/akademia-dokumentalna-mdag-w-kinie-muza-poznan-2
END:VEVENT
END:VCALENDAR