BEGIN:VCALENDAR
VERSION:2.0
PRODID:-//eventon.com NONSGML v1.0//EN
CALSCALE:GREGORIAN
METHOD:PUBLISH
BEGIN:VEVENT
UID:69ecafd1c3dbb
DTSTAMP:20260425T121305Z
DTSTART:20250517T070000Z
DTEND:20250517T120000Z
LOCATION:
SUMMARY:Grand Prix Wielkopolski 2025
DESCRIPTION:Zawody Łucznicze Grand Prix Wielkopolski 2025 – emocje na na
 jwiększym łuczniku w regionie! Rok 2025 zbliża się wielkimi krokami\,  
 a dla miłośników łucznictwa oznacza to niepowtarzalną okazję do rywal
 izacji w ramach Zawodów Łuczniczych Grand Prix Wielkopolski. To wyjątkow
 e wydarzenie przyciągnie zarówno zawodowych łuczników\,  jak i amatoró
 w\,  którzy pragną spróbować swoich[..]\nhttps://www.lepszypoznan.pl/ka
 lendarium-kulturalnych-wydarzen/grand-prix-wielkopolski-2025
URL:https://www.lepszypoznan.pl/kalendarium-kulturalnych-wydarzen/grand-prix-wielkopolski-2025
END:VEVENT
END:VCALENDAR