BEGIN:VCALENDAR
VERSION:2.0
PRODID:-//eventon.com NONSGML v1.0//EN
CALSCALE:GREGORIAN
METHOD:PUBLISH
BEGIN:VEVENT
UID:69e647d78ded6
DTSTAMP:20260420T153551Z
DTSTART:20250129T170000Z
DTEND:20250129T190000Z
LOCATION:
SUMMARY:Projekcja filmu „Ból”
DESCRIPTION:"Ból" - Film\,  który porusza najciemniejsze zakątki ludzkie
 j duszy W czasach\,  gdy historia pisana jest przez największe tragedie lu
 dzkości\,  pojawiają się dzieła sztuki\,  które potrafią uchwycić b
 l i cierpienie jednostki w obliczu dramatycznych wydarzeń. Takim arcydzie
 łem jest film „Ból” („La Douleur”) w reżyserii Emmanuela Finkiel
 a. Jego fabuła osadzona jest w[..]\nhttps://www.lepszypoznan.pl/kalendariu
 m-kulturalnych-wydarzen/projekcja-filmu-bol
URL:https://www.lepszypoznan.pl/kalendarium-kulturalnych-wydarzen/projekcja-filmu-bol
END:VEVENT
END:VCALENDAR