BEGIN:VCALENDAR
VERSION:2.0
PRODID:-//eventon.com NONSGML v1.0//EN
CALSCALE:GREGORIAN
METHOD:PUBLISH
BEGIN:VEVENT
UID:69ed305812cfc
DTSTAMP:20260425T212128Z
DTSTART:20240423T160000Z
DTEND:20240423T180000Z
LOCATION:
SUMMARY:Klub czytelniczy Domu Bretanii : Wokół powieści „Bliscy” Annie Ernaux
DESCRIPTION:Literacka podróż w rzeczywistość bliskich i odległych Mił
 ośnicy literatury francuskiej mają niepowtarzalną okazję\,  aby zanurzy
 ć się w fascynującym świecie słowa. Biblioteka Domu Bretanii w Poznani
 u zaprasza na inauguracyjne spotkanie klubu czytelniczego\,  które kładzi
 e nacisk na odrzucenie stereotypów związanych z historią rodzinną i nar
 odową. W szczególności\,  skupimy się wokół znakomitej powieści[..]\
 nhttps://www.lepszypoznan.pl/kalendarium-kulturalnych-wydarzen/klub-czyteln
 iczy-domu-bretanii-wokol-powiesci-bliscy-annie-ernaux
URL:https://www.lepszypoznan.pl/kalendarium-kulturalnych-wydarzen/klub-czytelniczy-domu-bretanii-wokol-powiesci-bliscy-annie-ernaux
END:VEVENT
END:VCALENDAR