BEGIN:VCALENDAR
VERSION:2.0
PRODID:-//eventon.com NONSGML v1.0//EN
CALSCALE:GREGORIAN
METHOD:PUBLISH
BEGIN:VEVENT
UID:69e5522764c38
DTSTAMP:20260419T220735Z
DTSTART:20151015T180000Z
DTEND:20151015T200000Z
LOCATION:
SUMMARY:Era Jazzu: BOSSARENOVA Trio
DESCRIPTION:Paula Morelenbaum – Ikona Nowoczesnej Bossa Novy Paula Morele
 nbaum to nazwisko\,  które w ostatnich latach stało się synonimem nowocz
 esnej bossa novy. Od momentu pojawienia się na scenie muzycznej\,  jej nie
 powtarzalny styl oraz charyzmatyczny głos przyciągają uwagę zarówno kr
 ytyków\,  jak i fanów jazzu na całym świecie. Artystka\,  określana pr
 zez wielu jako[..]\nhttps://www.lepszypoznan.pl/kalendarium-kulturalnych-wy
 darzen/era-jazzu-bossarenova-trio
URL:https://www.lepszypoznan.pl/kalendarium-kulturalnych-wydarzen/era-jazzu-bossarenova-trio
END:VEVENT
END:VCALENDAR