BEGIN:VCALENDAR
VERSION:2.0
PRODID:-//eventon.com NONSGML v1.0//EN
CALSCALE:GREGORIAN
METHOD:PUBLISH
BEGIN:VEVENT
UID:69eb84ecb5d66
DTSTAMP:20260424T145748Z
DTSTART:20250415T180000Z
DTEND:20250415T215900Z
LOCATION:
SUMMARY:Moderowane Jam Session Pana Gara - zaprasza Gia Bezuashvili i Filip Tetrashvili | Poznań
DESCRIPTION:Jam Session w Panu Garze – muzyczna uczta w doborowym towarzy
 stwie W najbliższy wtorek\,  8 kwietnia\,  zapraszamy wszystkich miłośni
 ków improwizowanej muzyki na wyjątkowy wieczór w Panie Garze. To miejsce
 \,  które już na stałe wpisało się w kalendarium muzycznych wydarzeń 
 w mieście\,  ponownie staje się areną twórczego spotkania muzyków\,  k
 tórzy nie[..]\nhttps://www.lepszypoznan.pl/kalendarium-kulturalnych-wydarz
 en/moderowane-jam-session-pana-gara-zaprasza-gia-bezuashvili-i-filip-tetras
 hvili-poznan-4
URL:https://www.lepszypoznan.pl/kalendarium-kulturalnych-wydarzen/moderowane-jam-session-pana-gara-zaprasza-gia-bezuashvili-i-filip-tetrashvili-poznan-4
END:VEVENT
END:VCALENDAR